BEGIN:VCALENDAR
VERSION:2.0
PRODID:-//eventon.com NONSGML v1.0//EN
CALSCALE:GREGORIAN
METHOD:PUBLISH
BEGIN:VEVENT
UID:69ea0a4f234a5
DTSTAMP:20260423T120223Z
DTSTART:20201209T123000Z
DTEND:20201209T235000Z
LOCATION:
SUMMARY:2021 Startup Competition - Institute of Chemical Engineering Sciences
DESCRIPTION:Το&nbsp;MIT Enterprise Forum Greece\,  και το ΙΤΕ\,  
 σας προσκαλούν στη διαδικτυακή παρουσία
 η του “MITEF Greece Startup Competition 2021” που θα πραγ
 ματοποιηθεί&nbsp; τη Τετάρτη 9 Δεκεμβρίου 202
 0\,  στις&nbsp;12:30. Σκοπός της εκδήλωσης είναι
  η ενημέρωση ερευνητών και νεοφυών επιχε
 ρήσεων σχετικά με το διαγωνισμό&nbsp; “MITEF 
 Greece Startup Competition 2021”\,  που στοχεύει στη δυν
 αμική[..]\nhttps://startsmartsee.org/events/2021-startup-competition-i
 nstitute-of-chemical-engineering-sciences/
URL:https://startsmartsee.org/events/2021-startup-competition-institute-of-chemical-engineering-sciences/
END:VEVENT
END:VCALENDAR